BEGIN:VCALENDAR
VERSION:2.0
PRODID:-//Yellowstone Region - ECPv6.15.20//NONSGML v1.0//EN
CALSCALE:GREGORIAN
METHOD:PUBLISH
X-WR-CALNAME:Yellowstone Region
X-ORIGINAL-URL:https://yel.pca.org
X-WR-CALDESC:Events for Yellowstone Region
REFRESH-INTERVAL;VALUE=DURATION:PT1H
X-Robots-Tag:noindex
X-PUBLISHED-TTL:PT1H
BEGIN:VTIMEZONE
TZID:America/Boise
BEGIN:DAYLIGHT
TZOFFSETFROM:-0700
TZOFFSETTO:-0600
TZNAME:MDT
DTSTART:20250309T090000
END:DAYLIGHT
BEGIN:STANDARD
TZOFFSETFROM:-0600
TZOFFSETTO:-0700
TZNAME:MST
DTSTART:20251102T080000
END:STANDARD
BEGIN:DAYLIGHT
TZOFFSETFROM:-0700
TZOFFSETTO:-0600
TZNAME:MDT
DTSTART:20260308T090000
END:DAYLIGHT
BEGIN:STANDARD
TZOFFSETFROM:-0600
TZOFFSETTO:-0700
TZNAME:MST
DTSTART:20261101T080000
END:STANDARD
BEGIN:DAYLIGHT
TZOFFSETFROM:-0700
TZOFFSETTO:-0600
TZNAME:MDT
DTSTART:20270314T090000
END:DAYLIGHT
BEGIN:STANDARD
TZOFFSETFROM:-0600
TZOFFSETTO:-0700
TZNAME:MST
DTSTART:20271107T080000
END:STANDARD
END:VTIMEZONE
BEGIN:VEVENT
DTSTART;TZID=America/Boise:20260606T090000
DTEND;TZID=America/Boise:20260606T120000
DTSTAMP:20260421T181120
CREATED:20260312T194104Z
LAST-MODIFIED:20260401T151625Z
UID:1942-1780736400-1780747200@yel.pca.org
SUMMARY:Jackson Cars & Coffee AND New Member Social
DESCRIPTION:Join us the first Saturday of every month from June to October to hang-out in Jackson with your fellow Porsche enthusiasts! This month we are also hosting our Spring New Member Social – so come for the fun and friendship while you meet our newest members! \n*1st Saturday Meetings at Wells Fargo Bank\, Jackson\, WY – catered by El Presidente’ Catering* \n**Remaining Saturdays of each month also have a Cars & Coffee at Wells Fargo Bank (not catered; non-PCA event)** \nAll Jackson Cars & Coffee meets are from 9:00 AM to 12 Noon
URL:https://yel.pca.org/event/jackson-cars-coffee-and-new-member-social/
LOCATION:Idaho
CATEGORIES:Cars & Coffee
ATTACH;FMTTYPE=image/jpeg:https://yel.pca.org/wp-content/uploads/2026/03/20250614_120847-scaled.jpg
ORGANIZER;CN="Scot Anderson":MAILTO:scotjh@icloud.com
END:VEVENT
BEGIN:VEVENT
DTSTART;TZID=America/Boise:20260620T080000
DTEND;TZID=America/Boise:20260620T180000
DTSTAMP:20260421T181120
CREATED:20260312T194229Z
LAST-MODIFIED:20260312T194256Z
UID:1950-1781942400-1781978400@yel.pca.org
SUMMARY:Group Drive and National Museum of Military Vehicles Tour - Dubois\, WY
DESCRIPTION:*Individual Billing Event* \nJoin us for a day of driving and a tour of the Military Museum in Dubois\, WY. \nDETAILS: \nIdaho Falls Meet and Drive to Jackson\, WY: 8:00 AM (leave at 8:15 AM) at Dad’s Gas Station – 3607 N Yellowstone Hwy\, Idaho Falls\, ID 83401 \nJackson Meet and Drive to Military Museum: 10:00 AM (leave 10:15 AM) at Yellowstone Visitor’s Center (across from Rustic Inn) in Jackson\, WY \nLunch: 12:30 PM – Cowboy Cafe  \nMuseum Tour: 1:30 PM to 3:30 PM \nIce Cream: 3:30 PM to 4:30 PM at the Museum Ice Cream Shop \nReturn to Jackson/Idaho Falls: Head out at 4:30 PM \nMuseum Admission Rates:\nGeneral Admission: $23\nU.S. Military Veterans: $18\nChildren Under 10: Free\nActive U.S. Military: Free
URL:https://yel.pca.org/event/drive-and-national-museum-of-military-vehicles-tour-dubois-wy/
LOCATION:National Museum of Military Vehicles\, 6419 US 26\, Dubois\, WY
CATEGORIES:Drive and Tour
ATTACH;FMTTYPE=image/webp:https://yel.pca.org/wp-content/uploads/2026/03/Military-Museum-3.webp
ORGANIZER;CN="Scot Anderson":MAILTO:scotjh@icloud.com
END:VEVENT
BEGIN:VEVENT
DTSTART;TZID=America/Boise:20260627T100000
DTEND;TZID=America/Boise:20260627T120000
DTSTAMP:20260421T181120
CREATED:20260312T194329Z
LAST-MODIFIED:20260312T194329Z
UID:1958-1782554400-1782561600@yel.pca.org
SUMMARY:Idaho Falls Cars & Coffee
DESCRIPTION:Join us the last Saturday of every month from March to October in Idaho Falls to hang-out with your fellow Porsche enthusiasts!
URL:https://yel.pca.org/event/idaho-falls-cars-coffee-3/
LOCATION:Kohl’s Parking Lot\, 3175 S 25th E\, Ammon\, ID
CATEGORIES:Cars & Coffee
ATTACH;FMTTYPE=image/jpeg:https://yel.pca.org/wp-content/uploads/2026/03/20250531_111618-scaled.jpg
END:VEVENT
BEGIN:VEVENT
DTSTART;TZID=America/Boise:20260627T100000
DTEND;TZID=America/Boise:20260627T150000
DTSTAMP:20260421T181120
CREATED:20260401T150511Z
LAST-MODIFIED:20260401T163929Z
UID:2308-1782554400-1782572400@yel.pca.org
SUMMARY:Swan Valley Sixth Annual Car Show (Non-PCA Event)
DESCRIPTION:The Swan Valley American Legion will be sponsoring its Sixth Annual Car Show on Saturday\, June 27th in conjunction with the annual Arts and Crafts Fair. If you are interested in entering your vehicle\, there is a $20 registration fee per vehicle (see info sheet below). There will be several trophy categories and freshly baked cinnamon rolls for all contestants! \nWhere: Swan Valley American Legion Parking Lot – 157 Stoltenberg Lane\, Swan Valley\, ID \nTime: 10:00 a.m. to 3:00 p.m. \nBest spots fill early – lot will open at 8:30 a.m. for early birds \nClick Here for Complete Registration Information. \nClick Here for Registration Form.
URL:https://yel.pca.org/event/swan-valley-sixth-annual-car-show-non-pca-event/
LOCATION:Swan Valley American Legion\, 157 Stoltenberg Lane\, Swan Valley\, Idaho
CATEGORIES:Car Show
ATTACH;FMTTYPE=image/jpeg:https://yel.pca.org/wp-content/uploads/2026/04/american-legion-logo-png-american-legion-seal-logo-1136-1-e1775055845482.jpg
END:VEVENT
BEGIN:VEVENT
DTSTART;TZID=America/Boise:20260628T130000
DTEND;TZID=America/Boise:20260628T150000
DTSTAMP:20260421T181120
CREATED:20260312T194359Z
LAST-MODIFIED:20260316T154535Z
UID:1960-1782651600-1782658800@yel.pca.org
SUMMARY:Group Cruise and Troy's Engine and Manufacturing Shop Tour
DESCRIPTION:Join us for a group cruise to Troy’s Engine for a tour of the Engine and Manufacturing shop! \nDETAILS: \nStart Drive: 1:00 PM at Kohl’s Parking Lot – 3175 S 25th E\, Ammon\, Idaho \nTour of Troy’s  \nEnd Drive: Kohl’s Parking Lot – 3175 S 25th E\, Ammon\, Idaho
URL:https://yel.pca.org/event/group-cruise-and-troys-engine-and-manufacturing-shop-tour/
LOCATION:Troy’s Engine and Manufacturing\, 20 N Landmark Lane\, Rigby\, Idaho
CATEGORIES:Drive and Tour
ATTACH;FMTTYPE=image/jpeg:https://yel.pca.org/wp-content/uploads/2026/03/Troys-Engine-2-scaled.jpg
END:VEVENT
BEGIN:VEVENT
DTSTART;TZID=America/Boise:20260704T090000
DTEND;TZID=America/Boise:20260704T120000
DTSTAMP:20260421T181120
CREATED:20260312T194440Z
LAST-MODIFIED:20260401T151653Z
UID:1964-1783155600-1783166400@yel.pca.org
SUMMARY:4th of July Jackson Cars & Coffee / New Member Social
DESCRIPTION:Join us the first Saturday of every month from June to October to hang-out in Jackson with your fellow Porsche enthusiasts! \n*1st Saturday Meetings at Wells Fargo Bank\, Jackson\, WY – catered by El Presidente’ Catering* \n**Remaining Saturdays of each month also have a Cars & Coffee at Wells Fargo Bank (not catered; non-PCA event)** \nAll Jackson Cars & Coffee meets are from 9:00 AM to 12 Noon
URL:https://yel.pca.org/event/jackson-cars-coffee/
LOCATION:Idaho
CATEGORIES:Cars & Coffee
ATTACH;FMTTYPE=image/jpeg:https://yel.pca.org/wp-content/uploads/2026/03/20250614_120847-scaled.jpg
ORGANIZER;CN="Scot Anderson":MAILTO:scotjh@icloud.com
END:VEVENT
BEGIN:VEVENT
DTSTART;TZID=America/Boise:20260724T190000
DTEND;TZID=America/Boise:20260724T203000
DTSTAMP:20260421T181120
CREATED:20260312T194528Z
LAST-MODIFIED:20260312T194528Z
UID:1970-1784919600-1784925000@yel.pca.org
SUMMARY:Summer Nights Italian Ice Social
DESCRIPTION:Bring your Porsche and join us for a summer treat with Summer Nights Italian Ice!
URL:https://yel.pca.org/event/summer-nights-italian-ice-social/
LOCATION:Summer Night’s Italian Ice\, 3068 Eagle Drive\, Ammon\, Idaho\, 83406
CATEGORIES:Social
ATTACH;FMTTYPE=image/webp:https://yel.pca.org/wp-content/uploads/2026/03/Summer-Nights.webp
END:VEVENT
BEGIN:VEVENT
DTSTART;TZID=America/Boise:20260725T100000
DTEND;TZID=America/Boise:20260725T120000
DTSTAMP:20260421T181120
CREATED:20260312T194547Z
LAST-MODIFIED:20260312T194547Z
UID:1975-1784973600-1784980800@yel.pca.org
SUMMARY:Idaho Falls Cars & Coffee
DESCRIPTION:Join us the last Saturday of every month from March to October in Idaho Falls to hang-out with your fellow Porsche enthusiasts!
URL:https://yel.pca.org/event/idaho-falls-cars-coffee-4/
LOCATION:Kohl’s Parking Lot\, 3175 S 25th E\, Ammon\, ID
CATEGORIES:Cars & Coffee
ATTACH;FMTTYPE=image/jpeg:https://yel.pca.org/wp-content/uploads/2026/03/20250531_111618-scaled.jpg
END:VEVENT
BEGIN:VEVENT
DTSTART;TZID=America/Boise:20260801T090000
DTEND;TZID=America/Boise:20260801T120000
DTSTAMP:20260421T181120
CREATED:20260312T194608Z
LAST-MODIFIED:20260401T151712Z
UID:1977-1785574800-1785585600@yel.pca.org
SUMMARY:Jackson Cars & Coffee
DESCRIPTION:Join us the first Saturday of every month from June to October to hang-out in Jackson with your fellow Porsche enthusiasts! \n*1st Saturday Meetings at Wells Fargo Bank\, Jackson\, WY – catered by El Presidente’ Catering* \n**Remaining Saturdays of each month also have a Cars & Coffee at Wells Fargo Bank (not catered; non-PCA event)** \nAll Jackson Cars & Coffee meets are from 9:00 AM to 12 Noon
URL:https://yel.pca.org/event/jackson-cars-coffee-2/
LOCATION:Idaho
CATEGORIES:Cars & Coffee
ATTACH;FMTTYPE=image/jpeg:https://yel.pca.org/wp-content/uploads/2026/03/20250614_120847-scaled.jpg
ORGANIZER;CN="Scot Anderson":MAILTO:scotjh@icloud.com
END:VEVENT
BEGIN:VEVENT
DTSTART;VALUE=DATE:20260821
DTEND;VALUE=DATE:20260824
DTSTAMP:20260421T181120
CREATED:20260312T194704Z
LAST-MODIFIED:20260312T194704Z
UID:1979-1787270400-1787529599@yel.pca.org
SUMMARY:Premier Event: Summer Tour to Red Lodge\, Montana
DESCRIPTION:**Individual Billing for all activities\, hotel\, food** \nYou don’t want to miss this Premier Summer Event – so be sure to register early! Event fee is $20 per person – register here: \nEVENT REGISTRATION – Summer Tour to Red Lodge \nBe sure to view the FULL EVENT LISTING with all details\, dates\, and times here: \nRed Lodge Montana Summer Tour. \nSUMMARY OF EVENTS \nDAY 1 – Fri\, Aug 21st:\nMeet with a Full Tank of Gas! “All Car Enthusiasts Welcome!” \nIdaho Falls Drive to Jackson: Meet at 8:00 AM (leave at 8:15 AM) – Dad’s Gas Station – 3607 N Yellowstone Hwy – Idaho Falls \nJackson Cruise Start: Meet at 10:00 AM (leave at 10:15 AM) – Visitor Center across from Rustic Inn \n**Cruise to Red Lodge via Cody – Chief Joseph Hwy – Bear Tooth Pass\, Lunch at Millstone Pizza Co & Brewery\, Dinner at Sam’s Tap Room\, Cocktails at Alpine Lodge Patio** \nHOTEL: Alpine Lodge in Red Lodge\, MT – 1105 N. Broadway Avenue – Red Lodge\, MT\n2 nights: 8/21-22/2026.  BOOK BY July 21\, 2026!\nPhone: 406-446-2213 – Confirmation #26 “Yellowstone Porsche Club”\n5 King-size rooms / 4 Queen-size cabins\nCost: $289 plus tax/night \nDay 2 – Sat\, Aug 22nd:  \n**Breakfast at Alpine Lodge\, Lunch at Bear Tooth Cafe\, Espresso/Dessert at Bear Claw Bakery\, Dinner at Carbon County Steakhouse\, Cocktails at Alpine Lodge Patio** \nDay 3 – Sun\, Aug 23rd:  \n**Breakfast at Alpine Lodge\, Start Drive home through Island Park\, Lunch at Cafe Sabor in Island Park**
URL:https://yel.pca.org/event/premier-event-summer-tour-to-red-lodge-montana/
LOCATION:Alpine Lodge\, 1105 N Broadway Avenue\, Red Lodge\, Montana
CATEGORIES:Drive and Tour,Summer Tour
ATTACH;FMTTYPE=image/jpeg:https://yel.pca.org/wp-content/uploads/2026/03/bear-tooth-highway.jpg
ORGANIZER;CN="Scot Anderson":MAILTO:scotjh@icloud.com
END:VEVENT
BEGIN:VEVENT
DTSTART;TZID=America/Boise:20260829T100000
DTEND;TZID=America/Boise:20260829T120000
DTSTAMP:20260421T181120
CREATED:20260312T194731Z
LAST-MODIFIED:20260312T194731Z
UID:1992-1787997600-1788004800@yel.pca.org
SUMMARY:Idaho Falls Cars & Coffee
DESCRIPTION:Join us the last Saturday of every month from March to October in Idaho Falls to hang-out with your fellow Porsche enthusiasts!
URL:https://yel.pca.org/event/idaho-falls-cars-coffee-5/
LOCATION:Kohl’s Parking Lot\, 3175 S 25th E\, Ammon\, ID
CATEGORIES:Cars & Coffee
ATTACH;FMTTYPE=image/jpeg:https://yel.pca.org/wp-content/uploads/2026/03/20250531_111618-scaled.jpg
END:VEVENT
BEGIN:VEVENT
DTSTART;TZID=America/Boise:20260905T090000
DTEND;TZID=America/Boise:20260905T120000
DTSTAMP:20260421T181120
CREATED:20260312T194749Z
LAST-MODIFIED:20260401T151729Z
UID:1994-1788598800-1788609600@yel.pca.org
SUMMARY:Jackson Cars & Coffee
DESCRIPTION:Join us the first Saturday of every month from June to October to hang-out in Jackson with your fellow Porsche enthusiasts! \n*1st Saturday Meetings at Wells Fargo Bank\, Jackson\, WY – catered by El Presidente’ Catering* \n**Remaining Saturdays of each month also have a Cars & Coffee at Wells Fargo Bank (not catered; non-PCA event)** \nAll Jackson Cars & Coffee meets are from 9:00 AM to 12 Noon
URL:https://yel.pca.org/event/jackson-cars-coffee-3/
LOCATION:Idaho
CATEGORIES:Cars & Coffee
ATTACH;FMTTYPE=image/jpeg:https://yel.pca.org/wp-content/uploads/2026/03/20250614_120847-scaled.jpg
ORGANIZER;CN="Scot Anderson":MAILTO:scotjh@icloud.com
END:VEVENT
BEGIN:VEVENT
DTSTART;VALUE=DATE:20260919
DTEND;VALUE=DATE:20260920
DTSTAMP:20260421T181120
CREATED:20260312T194825Z
LAST-MODIFIED:20260312T194825Z
UID:1996-1789776000-1789862399@yel.pca.org
SUMMARY:Around the Block Driving Tour
DESCRIPTION:Join us for a fun day trip cruise! \n**Idaho Falls – Alpine – Jackson – Victor – Idaho Falls** \nStart of Cruise: Time TBD – Dad’s Gas Station – 3607 N. Yellowstone Hwy – Idaho Falls\, Idaho \nLunch Stop at the Taco Bus in Alpine – Time TBD – Meet with Jackson members in front of Quizno’s (Smith’s Parking Lot)
URL:https://yel.pca.org/event/around-the-block-driving-tour/
LOCATION:Idaho
CATEGORIES:Drive and Tour
ATTACH;FMTTYPE=image/jpeg:https://yel.pca.org/wp-content/uploads/2026/03/P1072267-1-scaled.jpg
END:VEVENT
BEGIN:VEVENT
DTSTART;TZID=America/Boise:20260926T100000
DTEND;TZID=America/Boise:20260926T120000
DTSTAMP:20260421T181120
CREATED:20260312T194841Z
LAST-MODIFIED:20260312T194841Z
UID:1998-1790416800-1790424000@yel.pca.org
SUMMARY:Idaho Falls Cars & Coffee
DESCRIPTION:Join us the last Saturday of every month from March to October in Idaho Falls to hang-out with your fellow Porsche enthusiasts!
URL:https://yel.pca.org/event/idaho-falls-cars-coffee-6/
LOCATION:Kohl’s Parking Lot\, 3175 S 25th E\, Ammon\, ID
CATEGORIES:Cars & Coffee
ATTACH;FMTTYPE=image/jpeg:https://yel.pca.org/wp-content/uploads/2026/03/20250531_111618-scaled.jpg
END:VEVENT
BEGIN:VEVENT
DTSTART;TZID=America/Boise:20261003T090000
DTEND;TZID=America/Boise:20261003T120000
DTSTAMP:20260421T181120
CREATED:20260312T194902Z
LAST-MODIFIED:20260401T151749Z
UID:2000-1791018000-1791028800@yel.pca.org
SUMMARY:Jackson Cars & Coffee
DESCRIPTION:Join us for our last Yellowstone PCA Cars & Coffee event of the season in Jackson with your fellow Porsche enthusiasts! \n*1st Saturday Meetings at Wells Fargo Bank\, Jackson\, WY – catered by El Presidente’ Catering* \n**Remaining Saturdays of each month also have a Cars & Coffee at Wells Fargo Bank (not catered; non-PCA event)** \nAll Jackson Cars & Coffee meets are from 9:00 AM to 12 Noon
URL:https://yel.pca.org/event/jackson-cars-coffee-4/
LOCATION:Idaho
CATEGORIES:Cars & Coffee
ATTACH;FMTTYPE=image/jpeg:https://yel.pca.org/wp-content/uploads/2026/03/20250614_120847-scaled.jpg
ORGANIZER;CN="Scot Anderson":MAILTO:scotjh@icloud.com
END:VEVENT
BEGIN:VEVENT
DTSTART;TZID=America/Boise:20261011T160000
DTEND;TZID=America/Boise:20261011T180000
DTSTAMP:20260421T181120
CREATED:20260312T194930Z
LAST-MODIFIED:20260312T194930Z
UID:2002-1791734400-1791741600@yel.pca.org
SUMMARY:2nd Annual Oktoberfest
DESCRIPTION:Join your fellow Porsche Club Members from Jackson and Idaho Falls at our 2nd Annual Oktoberfest! \n**Bring your own beverage and Bring your own chair (BYOB/BYOC)** \n**Light refreshments will be provided** \nWe had a great time last year at our first annual event despite the rain and are looking forward to this event to wind down the 2026 Club Activities! \nLocation to be provided – contact Matthew Allen.
URL:https://yel.pca.org/event/2nd-annual-oktoberfest/
LOCATION:Text Matthew for Address\, Idaho Falls\, ID
CATEGORIES:Oktoberfest
ATTACH;FMTTYPE=image/jpeg:https://yel.pca.org/wp-content/uploads/2026/03/FB_IMG_1770599466379.jpg
END:VEVENT
BEGIN:VEVENT
DTSTART;TZID=America/Boise:20261031T100000
DTEND;TZID=America/Boise:20261031T120000
DTSTAMP:20260421T181120
CREATED:20260312T194952Z
LAST-MODIFIED:20260312T194952Z
UID:2006-1793440800-1793448000@yel.pca.org
SUMMARY:Idaho Falls Cars & Coffee
DESCRIPTION:Join us for the last Idaho Falls Cars & Coffee event of the season and hang-out with your fellow Porsche enthusiasts!
URL:https://yel.pca.org/event/idaho-falls-cars-coffee-7/
LOCATION:Kohl’s Parking Lot\, 3175 S 25th E\, Ammon\, ID
CATEGORIES:Cars & Coffee
ATTACH;FMTTYPE=image/jpeg:https://yel.pca.org/wp-content/uploads/2026/03/20250531_111618-scaled.jpg
END:VEVENT
END:VCALENDAR