BEGIN:VCALENDAR
VERSION:2.0
PRODID:-//Yellowstone Region - ECPv6.15.20//NONSGML v1.0//EN
CALSCALE:GREGORIAN
METHOD:PUBLISH
X-WR-CALNAME:Yellowstone Region
X-ORIGINAL-URL:https://yel.pca.org
X-WR-CALDESC:Events for Yellowstone Region
REFRESH-INTERVAL;VALUE=DURATION:PT1H
X-Robots-Tag:noindex
X-PUBLISHED-TTL:PT1H
BEGIN:VTIMEZONE
TZID:America/Boise
BEGIN:DAYLIGHT
TZOFFSETFROM:-0700
TZOFFSETTO:-0600
TZNAME:MDT
DTSTART:20250309T090000
END:DAYLIGHT
BEGIN:STANDARD
TZOFFSETFROM:-0600
TZOFFSETTO:-0700
TZNAME:MST
DTSTART:20251102T080000
END:STANDARD
BEGIN:DAYLIGHT
TZOFFSETFROM:-0700
TZOFFSETTO:-0600
TZNAME:MDT
DTSTART:20260308T090000
END:DAYLIGHT
BEGIN:STANDARD
TZOFFSETFROM:-0600
TZOFFSETTO:-0700
TZNAME:MST
DTSTART:20261101T080000
END:STANDARD
BEGIN:DAYLIGHT
TZOFFSETFROM:-0700
TZOFFSETTO:-0600
TZNAME:MDT
DTSTART:20270314T090000
END:DAYLIGHT
BEGIN:STANDARD
TZOFFSETFROM:-0600
TZOFFSETTO:-0700
TZNAME:MST
DTSTART:20271107T080000
END:STANDARD
END:VTIMEZONE
BEGIN:VEVENT
DTSTART;TZID=America/Boise:20260425T100000
DTEND;TZID=America/Boise:20260425T120000
DTSTAMP:20260421T190950
CREATED:20260312T193816Z
LAST-MODIFIED:20260312T193816Z
UID:1933-1777111200-1777118400@yel.pca.org
SUMMARY:Idaho Falls Cars & Coffee
DESCRIPTION:Join us the last Saturday of every month from March to October in Idaho Falls to hang-out with your fellow Porsche enthusiasts!
URL:https://yel.pca.org/event/idaho-falls-cars-coffee-2/
LOCATION:Kohl’s Parking Lot\, 3175 S 25th E\, Ammon\, ID
CATEGORIES:Cars & Coffee
ATTACH;FMTTYPE=image/jpeg:https://yel.pca.org/wp-content/uploads/2026/03/20250531_111618-scaled.jpg
END:VEVENT
BEGIN:VEVENT
DTSTART;TZID=America/Boise:20260418T130000
DTEND;TZID=America/Boise:20260418T160000
DTSTAMP:20260421T190950
CREATED:20260312T193750Z
LAST-MODIFIED:20260313T150058Z
UID:1921-1776517200-1776528000@yel.pca.org
SUMMARY:Car Wash Afternoon sponsored by Perfection Detailing
DESCRIPTION:Join us for an afternoon of fun and friendship while we make those beautiful Porsche machines shine! Hosted by: Perfection Detailing
URL:https://yel.pca.org/event/car-wash-afternoon-sponsored-by-perfection-detailing/
LOCATION:Text Matthew for Address\, Idaho Falls\, ID
CATEGORIES:Car Wash
ATTACH;FMTTYPE=image/webp:https://yel.pca.org/wp-content/uploads/2026/03/Car-Washing.webp
END:VEVENT
BEGIN:VEVENT
DTSTART;TZID=America/Boise:20260328T100000
DTEND;TZID=America/Boise:20260328T120000
DTSTAMP:20260421T190950
CREATED:20260312T193708Z
LAST-MODIFIED:20260312T193708Z
UID:1914-1774692000-1774699200@yel.pca.org
SUMMARY:Idaho Falls Cars & Coffee
DESCRIPTION:Join us the last Saturday of every month from March to October in Idaho Falls to hang-out with your fellow Porsche enthusiasts!
URL:https://yel.pca.org/event/idaho-falls-cars-coffee/
LOCATION:Kohl’s Parking Lot\, 3175 S 25th E\, Ammon\, ID
CATEGORIES:Cars & Coffee
ATTACH;FMTTYPE=image/jpeg:https://yel.pca.org/wp-content/uploads/2026/03/20250531_111618-scaled.jpg
END:VEVENT
BEGIN:VEVENT
DTSTART;TZID=America/Boise:20260217T190000
DTEND;TZID=America/Boise:20260217T213000
DTSTAMP:20260421T190950
CREATED:20260312T193349Z
LAST-MODIFIED:20260312T193349Z
UID:1908-1771354800-1771363800@yel.pca.org
SUMMARY:Sim Racing Night by Yellowstone Gran Prix
DESCRIPTION:Join us for some friendly competition at the Sim Racing Night hosted by Yellowstone Gran Prix in Idaho Falls.
URL:https://yel.pca.org/event/sim-racing-night-by-yellowstone-gran-prix/
LOCATION:Yellowstone Gran Prix\, 551 S Capital Avenue\, Idaho Falls\, ID
CATEGORIES:Sim Racing
ATTACH;FMTTYPE=image/webp:https://yel.pca.org/wp-content/uploads/2026/03/Yellowstone-Gran-Prix.webp
END:VEVENT
END:VCALENDAR